BEGIN:VCALENDAR
VERSION:2.0
PRODID:-//Cellar Door Wine Shop - ECPv6.15.17.1//NONSGML v1.0//EN
CALSCALE:GREGORIAN
METHOD:PUBLISH
X-WR-CALNAME:Cellar Door Wine Shop
X-ORIGINAL-URL:https://cellardoorconcord.com
X-WR-CALDESC:Events for Cellar Door Wine Shop
REFRESH-INTERVAL;VALUE=DURATION:PT1H
X-Robots-Tag:noindex
X-PUBLISHED-TTL:PT1H
BEGIN:VTIMEZONE
TZID:America/New_York
BEGIN:DAYLIGHT
TZOFFSETFROM:-0500
TZOFFSETTO:-0400
TZNAME:EDT
DTSTART:20240310T070000
END:DAYLIGHT
BEGIN:STANDARD
TZOFFSETFROM:-0400
TZOFFSETTO:-0500
TZNAME:EST
DTSTART:20241103T060000
END:STANDARD
BEGIN:DAYLIGHT
TZOFFSETFROM:-0500
TZOFFSETTO:-0400
TZNAME:EDT
DTSTART:20250309T070000
END:DAYLIGHT
BEGIN:STANDARD
TZOFFSETFROM:-0400
TZOFFSETTO:-0500
TZNAME:EST
DTSTART:20251102T060000
END:STANDARD
BEGIN:DAYLIGHT
TZOFFSETFROM:-0500
TZOFFSETTO:-0400
TZNAME:EDT
DTSTART:20260308T070000
END:DAYLIGHT
BEGIN:STANDARD
TZOFFSETFROM:-0400
TZOFFSETTO:-0500
TZNAME:EST
DTSTART:20261101T060000
END:STANDARD
BEGIN:DAYLIGHT
TZOFFSETFROM:-0500
TZOFFSETTO:-0400
TZNAME:EDT
DTSTART:20270314T070000
END:DAYLIGHT
BEGIN:STANDARD
TZOFFSETFROM:-0400
TZOFFSETTO:-0500
TZNAME:EST
DTSTART:20271107T060000
END:STANDARD
END:VTIMEZONE
BEGIN:VEVENT
DTSTART;TZID=America/New_York:20260211T170000
DTEND;TZID=America/New_York:20260211T190000
DTSTAMP:20260421T171654
CREATED:20260108T215002Z
LAST-MODIFIED:20260209T152800Z
UID:2817-1770829200-1770836400@cellardoorconcord.com
SUMMARY:The Wednesday Pour: Your Weekly Wine Discovery
DESCRIPTION:Wine Tasting  \n\n\n\n\nPresented by Mark Luna of Kellogg Selections \n\n\n\n\nTasting Notes
URL:https://cellardoorconcord.com/event/the-wednesday-pour-your-weekly-wine-discovery-2/
LOCATION:Cellar Door Wine Shop\, 2 Union Street South\, Concord\, NC\, 28025\, United States
CATEGORIES:Wine Tasting
ATTACH;FMTTYPE=image/jpeg:https://cellardoorconcord.com/wp-content/uploads/2026/01/20260207_155557.jpg
END:VEVENT
BEGIN:VEVENT
DTSTART;TZID=America/New_York:20260204T170000
DTEND;TZID=America/New_York:20260204T190000
DTSTAMP:20260421T171654
CREATED:20260108T214940Z
LAST-MODIFIED:20260204T170203Z
UID:2815-1770224400-1770231600@cellardoorconcord.com
SUMMARY:The Wednesday Pour: Your Weekly Wine Discovery
DESCRIPTION:Wine Tasting  \n\n\n\n\nPresented by Kaleigh Fanning of Elephants Corner Wine \n\n\n\n\nTasting Notes
URL:https://cellardoorconcord.com/event/the-wednesday-pour-your-weekly-wine-discovery/
LOCATION:Cellar Door Wine Shop\, 2 Union Street South\, Concord\, NC\, 28025\, United States
CATEGORIES:Wine Tasting
ATTACH;FMTTYPE=image/jpeg:https://cellardoorconcord.com/wp-content/uploads/2026/02/20260129_172238.jpg
END:VEVENT
BEGIN:VEVENT
DTSTART;TZID=America/New_York:20260203T190000
DTEND;TZID=America/New_York:20260203T203000
DTSTAMP:20260421T171654
CREATED:20251230T193111Z
LAST-MODIFIED:20260109T185541Z
UID:2772-1770145200-1770150600@cellardoorconcord.com
SUMMARY:Artisan Chocolate & Wine Pairing
DESCRIPTION:Join us for a delicious evening\, just in time for Valentine’s Day: Fine\, artisanal chocolate AND wine. Our special guest is Dr. Jessica Henderson\, of Chocolate Monkey. This will be a memorable event. \n\n\n\nWe are so excited to welcome Jessica back to Cellar Door Wine Shop! \n\n\n\n\n\n\nSeated event\, limited to 24 participants 
URL:https://cellardoorconcord.com/event/chocolate-wine-pairing/
LOCATION:Cellar Door Wine Shop\, 2 Union Street South\, Concord\, NC\, 28025\, United States
CATEGORIES:Pairing
ATTACH;FMTTYPE=image/png:https://cellardoorconcord.com/wp-content/uploads/2025/12/ChocWineEvent.png
END:VEVENT
BEGIN:VEVENT
DTSTART;TZID=America/New_York:20260131T180000
DTEND;TZID=America/New_York:20260131T210000
DTSTAMP:20260421T171654
CREATED:20251203T135742Z
LAST-MODIFIED:20260122T155951Z
UID:2708-1769882400-1769893200@cellardoorconcord.com
SUMMARY:Wine-Pairing Dinner
DESCRIPTION:Due to potential weather issues\, this event has been rescheduled. Call to get on the waitlist if tickets do not show as available.\n\n\n\n \n\n\n\nGather around our table for a special wine-pairing dinner\, featuring a collaboration with Cabarrus Cooking Company and Mountain Brook Vineyards. \n\n\n\nWe are thrilled to welcome special guest David Coventry\, winemaker at Mountain Brook. \n\n\n\nThe best way to warm up on a cold winter’s night? Superb food\, stellar wine\, and great friends!! \n\n\n\nTickets on sale soon. \n\n\n\n\n\n\n\n \n\n\n\nHosted by: Cellar Door Wine Shop and Cabarrus Cooking Company
URL:https://cellardoorconcord.com/event/wine-pairing-dinner-2/
LOCATION:Cellar Door Wine Shop\, 2 Union Street South\, Concord\, NC\, 28025\, United States
CATEGORIES:Downtown Events,Pairing
ATTACH;FMTTYPE=image/jpeg:https://cellardoorconcord.com/wp-content/uploads/2025/12/mtnbrooksunset.jpeg
END:VEVENT
BEGIN:VEVENT
DTSTART;TZID=America/New_York:20260128T170000
DTEND;TZID=America/New_York:20260128T190000
DTSTAMP:20260421T171654
CREATED:20251230T184012Z
LAST-MODIFIED:20260124T165945Z
UID:2757-1769619600-1769626800@cellardoorconcord.com
SUMMARY:The Wednesday Pour: Your Weekly Wine Discovery
DESCRIPTION:Wine Tasting with Megan Gadwah from 3 Keys Distributing \n\n\n\n\n \n\n\n\n\nTasting Notes
URL:https://cellardoorconcord.com/event/wine-tasting-14/
LOCATION:Cellar Door Wine Shop\, 2 Union Street South\, Concord\, NC\, 28025\, United States
CATEGORIES:Wine Tasting
ATTACH;FMTTYPE=image/jpeg:https://cellardoorconcord.com/wp-content/uploads/2026/01/20260124_113724.jpg
END:VEVENT
BEGIN:VEVENT
DTSTART;TZID=America/New_York:20260123T170000
DTEND;TZID=America/New_York:20260123T190000
DTSTAMP:20260421T171654
CREATED:20251230T183736Z
LAST-MODIFIED:20260122T161434Z
UID:2753-1769187600-1769194800@cellardoorconcord.com
SUMMARY:The Friday Pour: Your Weekly Wine Discovery!
DESCRIPTION:Join us for a special Friday night wine tasting. We’ve moved our Wednesday night free tasting to Friday. Come start your weekend early! \n\n\n\n\n\n\n\nWine Tasting with Brad Werner from Ocean South Imports \n\n\n\n\nThe wines for tonight’s theme are “Better for You” wines. They are lower in alcohol to help you with your January journey. \n\n\n\nTasting Notes
URL:https://cellardoorconcord.com/event/wine-tasting-friday-night-2/
LOCATION:Cellar Door Wine Shop\, 2 Union Street South\, Concord\, NC\, 28025\, United States
CATEGORIES:Wine Tasting
ATTACH;FMTTYPE=image/jpeg:https://cellardoorconcord.com/wp-content/uploads/2025/12/20260121_224845.jpg
END:VEVENT
BEGIN:VEVENT
DTSTART;TZID=America/New_York:20260121T120000
DTEND;TZID=America/New_York:20260121T170000
DTSTAMP:20260421T171654
CREATED:20251202T204713Z
LAST-MODIFIED:20251231T020650Z
UID:2686-1768996800-1769014800@cellardoorconcord.com
SUMMARY:Store is Open - No Wine Tasting
DESCRIPTION:The shop is closing early for a Private Event.
URL:https://cellardoorconcord.com/event/store-is-open-no-wine-tasting/
LOCATION:Cellar Door Wine Shop\, 2 Union Street South\, Concord\, NC\, 28025\, United States
CATEGORIES:Wine Tasting
END:VEVENT
BEGIN:VEVENT
DTSTART;TZID=America/New_York:20260120T180000
DTEND;TZID=America/New_York:20260120T193000
DTSTAMP:20260421T171654
CREATED:20251230T184853Z
LAST-MODIFIED:20260109T192140Z
UID:2762-1768932000-1768937400@cellardoorconcord.com
SUMMARY:Candlelight Yoga & Wine
DESCRIPTION:Renew – Restore – Relax – Release \n\n\n\nWine-down with candlelight yoga\, led by Leslie Bost of rē-LĒS\, les IS More. Want to start the new year by focusing on your well-being? Bring your mat and join us at 6 pm for a restorative yin practice at Cellar Door Wine Shop. \n\n\n\nThe evening includes featured XCEL Bars ~ Vegan Meal Bar—Made to Fuel Every Hustle. Our friends from XCEL will share samples of their delicious\, healthy meal bars …
URL:https://cellardoorconcord.com/event/yoga-healthy-foods/
LOCATION:Cellar Door Wine Shop\, 2 Union Street South\, Concord\, NC\, 28025\, United States
CATEGORIES:Wine Tasting
ATTACH;FMTTYPE=image/png:https://cellardoorconcord.com/wp-content/uploads/2025/12/yogoxcel.png
END:VEVENT
BEGIN:VEVENT
DTSTART;TZID=America/New_York:20260107T170000
DTEND;TZID=America/New_York:20260107T190000
DTSTAMP:20260421T171654
CREATED:20251230T183911Z
LAST-MODIFIED:20260108T214513Z
UID:2755-1767805200-1767812400@cellardoorconcord.com
SUMMARY:The Wednesday Pour: Your Weekly Wine Discovery
DESCRIPTION:Wine Tasting with Audrey Ferguson from Main Vine Wines \n\n\n\n\n \n\n\n\n\nTasting Notes
URL:https://cellardoorconcord.com/event/wine-tasting-13/
LOCATION:Cellar Door Wine Shop\, 2 Union Street South\, Concord\, NC\, 28025\, United States
CATEGORIES:Wine Tasting
ATTACH;FMTTYPE=image/png:https://cellardoorconcord.com/wp-content/uploads/2025/12/20260106_141432.png
END:VEVENT
BEGIN:VEVENT
DTSTART;TZID=America/New_York:20251231T120000
DTEND;TZID=America/New_York:20251231T180000
DTSTAMP:20260421T171654
CREATED:20251230T183557Z
LAST-MODIFIED:20251231T020456Z
UID:2751-1767182400-1767204000@cellardoorconcord.com
SUMMARY:Store is Open - Sip-n-Shop
DESCRIPTION:There is no regular Wednesday Wine Tasting tonight. Happy New Year. \n\n\n\nCome in for all-day Prosecco or Mimosas by the Glass.
URL:https://cellardoorconcord.com/event/store-is-open-no-wine-tasting-2/
LOCATION:Cellar Door Wine Shop\, 2 Union Street South\, Concord\, NC\, 28025\, United States
CATEGORIES:Wine Tasting
ATTACH;FMTTYPE=image/jpeg:https://cellardoorconcord.com/wp-content/uploads/2025/12/mimosas.unsplash.jpg
END:VEVENT
BEGIN:VEVENT
DTSTART;TZID=America/New_York:20251227T140000
DTEND;TZID=America/New_York:20251227T160000
DTSTAMP:20260421T171654
CREATED:20251202T203748Z
LAST-MODIFIED:20251220T233246Z
UID:2684-1766844000-1766851200@cellardoorconcord.com
SUMMARY:Wine Tasting - Special Saturday Afternoon Event
DESCRIPTION:Wine Tasting with Robin & Andy  \n\n\n\nToday is a special tasting with “us”. Come out and try some amazing sparkling wines for New Year’s. \n\n\n\n** This week we shift our Wednesday Night tasting to Saturday!! ** \n\n\n\n\n \n\n\n\n\nTasting Notes
URL:https://cellardoorconcord.com/event/wine-tasting-special-saturday-event/
LOCATION:Cellar Door Wine Shop\, 2 Union Street South\, Concord\, NC\, 28025\, United States
CATEGORIES:Wine Tasting
ATTACH;FMTTYPE=image/jpeg:https://cellardoorconcord.com/wp-content/uploads/2025/12/20251218_171041.jpg
END:VEVENT
BEGIN:VEVENT
DTSTART;TZID=America/New_York:20251224T170000
DTEND;TZID=America/New_York:20251224T190000
DTSTAMP:20260421T171654
CREATED:20251030T200552Z
LAST-MODIFIED:20251216T130749Z
UID:2638-1766595600-1766602800@cellardoorconcord.com
SUMMARY:No Wine Tasting
DESCRIPTION:– Merry Christmas
URL:https://cellardoorconcord.com/event/no-wine-tasting/
LOCATION:Cellar Door Wine Shop\, 2 Union Street South\, Concord\, NC\, 28025\, United States
CATEGORIES:Wine Tasting
ATTACH;FMTTYPE=image/png:https://cellardoorconcord.com/wp-content/uploads/2024/12/red-12-days.png
END:VEVENT
BEGIN:VEVENT
DTSTART;TZID=America/New_York:20251217T170000
DTEND;TZID=America/New_York:20251217T190000
DTSTAMP:20260421T171654
CREATED:20251202T203306Z
LAST-MODIFIED:20251214T205850Z
UID:2681-1765990800-1765998000@cellardoorconcord.com
SUMMARY:Wine Tasting - Last Minute Gift Wines
DESCRIPTION:Wine Tasting with Jeremiah Duininck from Etruscan Imports \n\n\n\n\n \n\n\n\n\nTasting Notes
URL:https://cellardoorconcord.com/event/wine-tasting-giftable-wines-for-the-holiday/
LOCATION:Cellar Door Wine Shop\, 2 Union Street South\, Concord\, NC\, 28025\, United States
CATEGORIES:Wine Tasting
ATTACH;FMTTYPE=image/png:https://cellardoorconcord.com/wp-content/uploads/2025/12/20250124_135039.png
END:VEVENT
BEGIN:VEVENT
DTSTART;TZID=America/New_York:20251213T170000
DTEND;TZID=America/New_York:20251213T210000
DTSTAMP:20260421T171654
CREATED:20251203T133744Z
LAST-MODIFIED:20251203T133745Z
UID:2692-1765645200-1765659600@cellardoorconcord.com
SUMMARY:Second Saturday at the Cellar
DESCRIPTION:Cellar Door Wine Shop is open until 9 pm on the 2nd Saturday of each month \n\n\n\n\n\n\nEnjoy a personal tasting of 3 wines\n\n\n\nPick your favorite for a full glass\n\n\n\nSeating inside or outside on the patio\n\n\n\nAvailable 5-8:30 pm\, $15 per person\n\n\n\nNo reservation needed\n\n\n\nCharcuterie boxes available (must pre-order)\n\n\n\n\nUnwind and enjoy an evening in Downtown Concord!  \n\n\n\nCheers to making Saturday nights unforgettable! 🍷✨
URL:https://cellardoorconcord.com/event/second-saturday-at-the-cellar/
LOCATION:NC
CATEGORIES:Downtown Events,Wine Tasting
ATTACH;FMTTYPE=image/jpeg:https://cellardoorconcord.com/wp-content/uploads/2025/02/secondsaturdaywinefood.jpg
END:VEVENT
BEGIN:VEVENT
DTSTART;TZID=America/New_York:20251210T170000
DTEND;TZID=America/New_York:20251210T190000
DTSTAMP:20260421T171654
CREATED:20251202T203129Z
LAST-MODIFIED:20251206T165002Z
UID:2679-1765386000-1765393200@cellardoorconcord.com
SUMMARY:Wine Tasting - Wines for the Holiday
DESCRIPTION:Wine Tasting with Kaleigh Fanning from Elephants Corner Wines \n\n\n\n\n \n\n\n\n\nTasting Notes
URL:https://cellardoorconcord.com/event/wine-tasting-wines-for-the-holiday/
LOCATION:Cellar Door Wine Shop\, 2 Union Street South\, Concord\, NC\, 28025\, United States
CATEGORIES:Wine Tasting
ATTACH;FMTTYPE=image/jpeg:https://cellardoorconcord.com/wp-content/uploads/2025/12/20251206_114000.jpg
END:VEVENT
BEGIN:VEVENT
DTSTART;TZID=America/New_York:20251203T170000
DTEND;TZID=America/New_York:20251203T190000
DTSTAMP:20260421T171654
CREATED:20251201T181410Z
LAST-MODIFIED:20251202T202830Z
UID:2674-1764781200-1764788400@cellardoorconcord.com
SUMMARY:Wine Tasting - "Bubbles & Brawn"
DESCRIPTION:Wine Tasting with Brittanie Wallace from Queen of Wines \n\n\n\n\n \n\n\n\n\nTasting Notes
URL:https://cellardoorconcord.com/event/wine-tasting-12/
LOCATION:Cellar Door Wine Shop\, 2 Union Street South\, Concord\, NC\, 28025\, United States
CATEGORIES:Wine Tasting
ATTACH;FMTTYPE=image/jpeg:https://cellardoorconcord.com/wp-content/uploads/2025/12/20251130_115556.jpg
END:VEVENT
BEGIN:VEVENT
DTSTART;TZID=America/New_York:20251129T110000
DTEND;TZID=America/New_York:20251129T170000
DTSTAMP:20260421T171655
CREATED:20251030T202217Z
LAST-MODIFIED:20251030T202218Z
UID:2648-1764414000-1764435600@cellardoorconcord.com
SUMMARY:Small Business Saturday Holiday Trail
DESCRIPTION:Visit Cellar Door for Holiday Shopping\, Sales & Promotions\, and Festive Wines by-the-glass
URL:https://cellardoorconcord.com/event/small-business-saturday-holiday-trail/
LOCATION:Cellar Door Wine Shop\, 2 Union Street South\, Concord\, NC\, 28025\, United States
CATEGORIES:Downtown Events
ATTACH;FMTTYPE=image/png:https://cellardoorconcord.com/wp-content/uploads/2025/10/Holiday-Trail-25.png
END:VEVENT
BEGIN:VEVENT
DTSTART;TZID=America/New_York:20251122T023000
DTEND;TZID=America/New_York:20251122T190000
DTSTAMP:20260421T171655
CREATED:20251030T201804Z
LAST-MODIFIED:20251030T204018Z
UID:2645-1763778600-1763838000@cellardoorconcord.com
SUMMARY:Concord Christmas Parade
DESCRIPTION:wines by-the-glass to go (including warm mulled wine!) \n\n\n\n\nWant a reserved seat for the parade? Spend the afternoon at Cellar Door Wine Shop!
URL:https://cellardoorconcord.com/event/concord-christmas-parade/
LOCATION:Cellar Door Wine Shop\, 2 Union Street South\, Concord\, NC\, 28025\, United States
CATEGORIES:Downtown Events
ATTACH;FMTTYPE=image/jpeg:https://cellardoorconcord.com/wp-content/uploads/2025/10/paragetruck.jpeg
END:VEVENT
BEGIN:VEVENT
DTSTART;TZID=America/New_York:20251121T120000
DTEND;TZID=America/New_York:20251121T210000
DTSTAMP:20260421T171655
CREATED:20251030T201125Z
LAST-MODIFIED:20251030T201221Z
UID:2640-1763726400-1763758800@cellardoorconcord.com
SUMMARY:Concord Christmas Tree Lighting
DESCRIPTION:wines by-the-glass to go (including warm mulled wine!)
URL:https://cellardoorconcord.com/event/concord-christmas-tree-lighting/
LOCATION:Cellar Door Wine Shop\, 2 Union Street South\, Concord\, NC\, 28025\, United States
CATEGORIES:Downtown Events
ATTACH;FMTTYPE=image/jpeg:https://cellardoorconcord.com/wp-content/uploads/2025/10/treelighting.jpeg
END:VEVENT
BEGIN:VEVENT
DTSTART;TZID=America/New_York:20251119T170000
DTEND;TZID=America/New_York:20251119T190000
DTSTAMP:20260421T171655
CREATED:20251030T200444Z
LAST-MODIFIED:20251117T211942Z
UID:2636-1763571600-1763578800@cellardoorconcord.com
SUMMARY:Wine Tasting
DESCRIPTION:Wine Tasting with Kaleigh Fanning from Elephants Corner Wines \n\n\n\n\n \n\n\n\n\nTasting Notes
URL:https://cellardoorconcord.com/event/wine-tasting-11/
LOCATION:Cellar Door Wine Shop\, 2 Union Street South\, Concord\, NC\, 28025\, United States
CATEGORIES:Wine Tasting
ATTACH;FMTTYPE=image/jpeg:https://cellardoorconcord.com/wp-content/uploads/2025/11/20251113_174956.jpg
END:VEVENT
BEGIN:VEVENT
DTSTART;TZID=America/New_York:20251114T170000
DTEND;TZID=America/New_York:20251114T190000
DTSTAMP:20260421T171655
CREATED:20251030T200346Z
LAST-MODIFIED:20251110T185332Z
UID:2632-1763139600-1763146800@cellardoorconcord.com
SUMMARY:Wine Tasting - Friday Night!
DESCRIPTION:Join us for a special Friday night wine tasting with winemaker and viticulturist Johan Viljoen of Nordmandie wines of South Africa! Johan\, a Viticulturist & Winemaker\, is from one of South Africa’s most historic and prestigious estates\, located in the renowned Franschhoek region of the Cape Winelands. He makes the legendary wines from the Normandie Estate 1693\, one of the first 10 settlements in the Oliphantshoek (Elephants Corner) Valley\, renamed Franschhoek (French Corner).  \n\n\n\nCome meet Johan as he shares the story behind these world-class wines\, produced by hand with over 300 years of heritage and meticulous care. \n\n\n\nFeatured Wines: \n\n\n\n\nNormandie ‘KAREN’ Merlot Rose 2024\n\n\n\nNormandie ‘ANNO 1693’ Cabernet Sauvignon-Merlot 2020\n\n\n\nNormandie ‘Eisen & Viljoen’  Cabernet Sauvignon-Merlot-Petit Verdot    2017
URL:https://cellardoorconcord.com/event/wine-tasting-friday-night/
LOCATION:Cellar Door Wine Shop\, 2 Union Street South\, Concord\, NC\, 28025\, United States
CATEGORIES:Wine Tasting
ATTACH;FMTTYPE=image/png:https://cellardoorconcord.com/wp-content/uploads/2025/10/johan.png
END:VEVENT
BEGIN:VEVENT
DTSTART;TZID=America/New_York:20251109T120000
DTEND;TZID=America/New_York:20251109T180000
DTSTAMP:20260421T171655
CREATED:20251007T155519Z
LAST-MODIFIED:20251013T182308Z
UID:2598-1762689600-1762711200@cellardoorconcord.com
SUMMARY:Seasonal Sips: A Holiday Wine Showcase
DESCRIPTION:Join us for a delightful holiday wine-tasting experience! \n\n\n\nCelebrate the season with us at Cellar Door Wine Shop’s 2nd Annual Seasonal Sips: A Holiday Wine Showcase. This festive event is the perfect way to discover new wines for your Thanksgiving and Winter holiday celebrations. \n\n\n\n \n\n\n\n\nHoliday Wine Showcase \n\n\n\n\n\n\n\n\n\n\n\n\nFour Exclusive Vendors: Sample curated selection of wines for the holidays. \n\n\n\nCasual Atmosphere: This is a relaxed\, not-seated event where you can visit each table at your own pace. \n\n\n\nDelicious Snacks: Complement your wine tasting. \n\n\n\nTake-Home Seasonal Wine Glass: Receive a beautifully designed seasonal wine glass to take home. \n\n\n\nTwo Time Options:  12:00-2:30 OR 3:30-6:00\, that’s 2 1/2 hours of tasting.
URL:https://cellardoorconcord.com/event/seasonal-sips-a-holiday-wine-showcase/
LOCATION:Cellar Door Wine Shop\, 2 Union Street South\, Concord\, NC\, 28025\, United States
CATEGORIES:Downtown Events
ATTACH;FMTTYPE=image/jpeg:https://cellardoorconcord.com/wp-content/uploads/2024/10/seasonalsipsimage.jpeg
END:VEVENT
BEGIN:VEVENT
DTSTART;TZID=America/New_York:20251108T170000
DTEND;TZID=America/New_York:20251108T210000
DTSTAMP:20260421T171655
CREATED:20250911T201409Z
LAST-MODIFIED:20250911T201411Z
UID:2543-1762621200-1762635600@cellardoorconcord.com
SUMMARY:Second Saturday at the Cellar
DESCRIPTION:Cellar Door Wine Shop is open until 9 pm on the 2nd Saturday of each month \n\n\n\n\n\n\nEnjoy a personal tasting of 3 wines\n\n\n\nPick your favorite for a full glass\n\n\n\nSeating inside or outside on the patio\n\n\n\nAvailable 5-8:30 pm\, $15 per person\n\n\n\nNo reservation needed\n\n\n\nCharcuterie boxes available (must pre-order)\n\n\n\n\nUnwind and enjoy an evening in Downtown Concord!  \n\n\n\nCheers to making Saturday nights unforgettable! 🍷✨
URL:https://cellardoorconcord.com/event/second-saturday-at-the-cellar-7/
LOCATION:NC
CATEGORIES:Downtown Events,Wine Tasting
ATTACH;FMTTYPE=image/jpeg:https://cellardoorconcord.com/wp-content/uploads/2025/02/secondsaturdaywinefood.jpg
END:VEVENT
BEGIN:VEVENT
DTSTART;TZID=America/New_York:20251105T170000
DTEND;TZID=America/New_York:20251105T190000
DTSTAMP:20260421T171655
CREATED:20251030T200045Z
LAST-MODIFIED:20251103T215047Z
UID:2630-1762362000-1762369200@cellardoorconcord.com
SUMMARY:Wine Tasting
DESCRIPTION:Wine Tasting with Audrey Ferguson from Main Vine Wines \n\n\n\n\n \n\n\n\n\nTasting Notes
URL:https://cellardoorconcord.com/event/wine-tasting-10/
LOCATION:Cellar Door Wine Shop\, 2 Union Street South\, Concord\, NC\, 28025\, United States
CATEGORIES:Wine Tasting
ATTACH;FMTTYPE=image/jpeg:https://cellardoorconcord.com/wp-content/uploads/2025/11/20251103_125714.jpg
END:VEVENT
BEGIN:VEVENT
DTSTART;TZID=America/New_York:20251029T170000
DTEND;TZID=America/New_York:20251029T190000
DTSTAMP:20260421T171655
CREATED:20251007T151441Z
LAST-MODIFIED:20251028T134815Z
UID:2590-1761757200-1761764400@cellardoorconcord.com
SUMMARY:Wine Tasting
DESCRIPTION:Wine Tasting with Brad Werner from Ocean South Imports  \n\n\n\n\nHalloween-themed Wines \n\n\n\n\nTasting Notes
URL:https://cellardoorconcord.com/event/wine-tasting-9/
LOCATION:Cellar Door Wine Shop\, 2 Union Street South\, Concord\, NC\, 28025\, United States
CATEGORIES:Wine Tasting
ATTACH;FMTTYPE=image/jpeg:https://cellardoorconcord.com/wp-content/uploads/2025/10/20251024_132119.jpg
END:VEVENT
BEGIN:VEVENT
DTSTART;TZID=America/New_York:20251028T180000
DTEND;TZID=America/New_York:20251028T193000
DTSTAMP:20260421T171655
CREATED:20251007T153113Z
LAST-MODIFIED:20251007T153113Z
UID:2596-1761674400-1761679800@cellardoorconcord.com
SUMMARY:Shedding Leaves Like Fall Trees: Fall Yoga to Let Go & Wine
DESCRIPTION:Renew – Restore – Relax – Release \n\n\n\nWine-down with candlelight yoga\, led by Leslie Bost of rē-LĒS\, les IS More. Need to let go of some stress\, heaviness\, sadness\, or burdens? Need to bring some peace to this busy season? Grab your mat and join us at 6 pm for a restorative yin practice at Cellar Door Wine Shop.
URL:https://cellardoorconcord.com/event/shedding-leaves-like-fall-trees-fall-yoga-to-let-go-wine/
LOCATION:Cellar Door Wine Shop\, 2 Union Street South\, Concord\, NC\, 28025\, United States
CATEGORIES:Wine Tasting
END:VEVENT
BEGIN:VEVENT
DTSTART;TZID=America/New_York:20251025T180000
DTEND;TZID=America/New_York:20251025T210000
DTSTAMP:20260421T171655
CREATED:20250827T195554Z
LAST-MODIFIED:20250930T214924Z
UID:2498-1761415200-1761426000@cellardoorconcord.com
SUMMARY:Taste of Tuscany ~ Wine-Pairing Dinner
DESCRIPTION:Savor a delicious four-course meal prepared by Chef Bob VanAtta\, perfectly paired with wines from Cellar Door Wine Shop. \n\n\n\n \n\n\n\n\n\n\n\n \n\n\n\nHosted by: Cellar Door Wine Shop and Cabarrus Cooking Company
URL:https://cellardoorconcord.com/event/taste-of-tuscany-wine-pairing-dinner/
LOCATION:Cellar Door Wine Shop\, 2 Union Street South\, Concord\, NC\, 28025\, United States
CATEGORIES:Downtown Events,Pairing
END:VEVENT
BEGIN:VEVENT
DTSTART;TZID=America/New_York:20251022T170000
DTEND;TZID=America/New_York:20251022T190000
DTSTAMP:20260421T171655
CREATED:20251007T151343Z
LAST-MODIFIED:20251018T170510Z
UID:2588-1761152400-1761159600@cellardoorconcord.com
SUMMARY:Wine Tasting
DESCRIPTION:Wine Tasting with Kaleigh Fanning from Elephants Corner Wines \n\n\n\n\n \n\n\n\n\nTasting Notes
URL:https://cellardoorconcord.com/event/wine-tasting-8/
LOCATION:Cellar Door Wine Shop\, 2 Union Street South\, Concord\, NC\, 28025\, United States
CATEGORIES:Wine Tasting
ATTACH;FMTTYPE=image/jpeg:https://cellardoorconcord.com/wp-content/uploads/2025/10/20251018_120030.jpg
END:VEVENT
END:VCALENDAR