BEGIN:VCALENDAR
VERSION:2.0
PRODID:-//Cellar Door Wine Shop - ECPv6.15.17.1//NONSGML v1.0//EN
CALSCALE:GREGORIAN
METHOD:PUBLISH
X-WR-CALNAME:Cellar Door Wine Shop
X-ORIGINAL-URL:https://cellardoorconcord.com
X-WR-CALDESC:Events for Cellar Door Wine Shop
REFRESH-INTERVAL;VALUE=DURATION:PT1H
X-Robots-Tag:noindex
X-PUBLISHED-TTL:PT1H
BEGIN:VTIMEZONE
TZID:America/New_York
BEGIN:DAYLIGHT
TZOFFSETFROM:-0500
TZOFFSETTO:-0400
TZNAME:EDT
DTSTART:20240310T070000
END:DAYLIGHT
BEGIN:STANDARD
TZOFFSETFROM:-0400
TZOFFSETTO:-0500
TZNAME:EST
DTSTART:20241103T060000
END:STANDARD
BEGIN:DAYLIGHT
TZOFFSETFROM:-0500
TZOFFSETTO:-0400
TZNAME:EDT
DTSTART:20250309T070000
END:DAYLIGHT
BEGIN:STANDARD
TZOFFSETFROM:-0400
TZOFFSETTO:-0500
TZNAME:EST
DTSTART:20251102T060000
END:STANDARD
BEGIN:DAYLIGHT
TZOFFSETFROM:-0500
TZOFFSETTO:-0400
TZNAME:EDT
DTSTART:20260308T070000
END:DAYLIGHT
BEGIN:STANDARD
TZOFFSETFROM:-0400
TZOFFSETTO:-0500
TZNAME:EST
DTSTART:20261101T060000
END:STANDARD
END:VTIMEZONE
BEGIN:VEVENT
DTSTART;TZID=America/New_York:20251203T170000
DTEND;TZID=America/New_York:20251203T190000
DTSTAMP:20260421T211809
CREATED:20251201T181410Z
LAST-MODIFIED:20251202T202830Z
UID:2674-1764781200-1764788400@cellardoorconcord.com
SUMMARY:Wine Tasting - "Bubbles & Brawn"
DESCRIPTION:Wine Tasting with Brittanie Wallace from Queen of Wines \n\n\n\n\n \n\n\n\n\nTasting Notes
URL:https://cellardoorconcord.com/event/wine-tasting-12/
LOCATION:Cellar Door Wine Shop\, 2 Union Street South\, Concord\, NC\, 28025\, United States
CATEGORIES:Wine Tasting
ATTACH;FMTTYPE=image/jpeg:https://cellardoorconcord.com/wp-content/uploads/2025/12/20251130_115556.jpg
END:VEVENT
BEGIN:VEVENT
DTSTART;TZID=America/New_York:20251129T110000
DTEND;TZID=America/New_York:20251129T170000
DTSTAMP:20260421T211809
CREATED:20251030T202217Z
LAST-MODIFIED:20251030T202218Z
UID:2648-1764414000-1764435600@cellardoorconcord.com
SUMMARY:Small Business Saturday Holiday Trail
DESCRIPTION:Visit Cellar Door for Holiday Shopping\, Sales & Promotions\, and Festive Wines by-the-glass
URL:https://cellardoorconcord.com/event/small-business-saturday-holiday-trail/
LOCATION:Cellar Door Wine Shop\, 2 Union Street South\, Concord\, NC\, 28025\, United States
CATEGORIES:Downtown Events
ATTACH;FMTTYPE=image/png:https://cellardoorconcord.com/wp-content/uploads/2025/10/Holiday-Trail-25.png
END:VEVENT
BEGIN:VEVENT
DTSTART;TZID=America/New_York:20251122T023000
DTEND;TZID=America/New_York:20251122T190000
DTSTAMP:20260421T211809
CREATED:20251030T201804Z
LAST-MODIFIED:20251030T204018Z
UID:2645-1763778600-1763838000@cellardoorconcord.com
SUMMARY:Concord Christmas Parade
DESCRIPTION:wines by-the-glass to go (including warm mulled wine!) \n\n\n\n\nWant a reserved seat for the parade? Spend the afternoon at Cellar Door Wine Shop!
URL:https://cellardoorconcord.com/event/concord-christmas-parade/
LOCATION:Cellar Door Wine Shop\, 2 Union Street South\, Concord\, NC\, 28025\, United States
CATEGORIES:Downtown Events
ATTACH;FMTTYPE=image/jpeg:https://cellardoorconcord.com/wp-content/uploads/2025/10/paragetruck.jpeg
END:VEVENT
BEGIN:VEVENT
DTSTART;TZID=America/New_York:20251121T120000
DTEND;TZID=America/New_York:20251121T210000
DTSTAMP:20260421T211809
CREATED:20251030T201125Z
LAST-MODIFIED:20251030T201221Z
UID:2640-1763726400-1763758800@cellardoorconcord.com
SUMMARY:Concord Christmas Tree Lighting
DESCRIPTION:wines by-the-glass to go (including warm mulled wine!)
URL:https://cellardoorconcord.com/event/concord-christmas-tree-lighting/
LOCATION:Cellar Door Wine Shop\, 2 Union Street South\, Concord\, NC\, 28025\, United States
CATEGORIES:Downtown Events
ATTACH;FMTTYPE=image/jpeg:https://cellardoorconcord.com/wp-content/uploads/2025/10/treelighting.jpeg
END:VEVENT
BEGIN:VEVENT
DTSTART;TZID=America/New_York:20251119T170000
DTEND;TZID=America/New_York:20251119T190000
DTSTAMP:20260421T211809
CREATED:20251030T200444Z
LAST-MODIFIED:20251117T211942Z
UID:2636-1763571600-1763578800@cellardoorconcord.com
SUMMARY:Wine Tasting
DESCRIPTION:Wine Tasting with Kaleigh Fanning from Elephants Corner Wines \n\n\n\n\n \n\n\n\n\nTasting Notes
URL:https://cellardoorconcord.com/event/wine-tasting-11/
LOCATION:Cellar Door Wine Shop\, 2 Union Street South\, Concord\, NC\, 28025\, United States
CATEGORIES:Wine Tasting
ATTACH;FMTTYPE=image/jpeg:https://cellardoorconcord.com/wp-content/uploads/2025/11/20251113_174956.jpg
END:VEVENT
BEGIN:VEVENT
DTSTART;TZID=America/New_York:20251114T170000
DTEND;TZID=America/New_York:20251114T190000
DTSTAMP:20260421T211809
CREATED:20251030T200346Z
LAST-MODIFIED:20251110T185332Z
UID:2632-1763139600-1763146800@cellardoorconcord.com
SUMMARY:Wine Tasting - Friday Night!
DESCRIPTION:Join us for a special Friday night wine tasting with winemaker and viticulturist Johan Viljoen of Nordmandie wines of South Africa! Johan\, a Viticulturist & Winemaker\, is from one of South Africa’s most historic and prestigious estates\, located in the renowned Franschhoek region of the Cape Winelands. He makes the legendary wines from the Normandie Estate 1693\, one of the first 10 settlements in the Oliphantshoek (Elephants Corner) Valley\, renamed Franschhoek (French Corner).  \n\n\n\nCome meet Johan as he shares the story behind these world-class wines\, produced by hand with over 300 years of heritage and meticulous care. \n\n\n\nFeatured Wines: \n\n\n\n\nNormandie ‘KAREN’ Merlot Rose 2024\n\n\n\nNormandie ‘ANNO 1693’ Cabernet Sauvignon-Merlot 2020\n\n\n\nNormandie ‘Eisen & Viljoen’  Cabernet Sauvignon-Merlot-Petit Verdot    2017
URL:https://cellardoorconcord.com/event/wine-tasting-friday-night/
LOCATION:Cellar Door Wine Shop\, 2 Union Street South\, Concord\, NC\, 28025\, United States
CATEGORIES:Wine Tasting
ATTACH;FMTTYPE=image/png:https://cellardoorconcord.com/wp-content/uploads/2025/10/johan.png
END:VEVENT
BEGIN:VEVENT
DTSTART;TZID=America/New_York:20251109T120000
DTEND;TZID=America/New_York:20251109T180000
DTSTAMP:20260421T211809
CREATED:20251007T155519Z
LAST-MODIFIED:20251013T182308Z
UID:2598-1762689600-1762711200@cellardoorconcord.com
SUMMARY:Seasonal Sips: A Holiday Wine Showcase
DESCRIPTION:Join us for a delightful holiday wine-tasting experience! \n\n\n\nCelebrate the season with us at Cellar Door Wine Shop’s 2nd Annual Seasonal Sips: A Holiday Wine Showcase. This festive event is the perfect way to discover new wines for your Thanksgiving and Winter holiday celebrations. \n\n\n\n \n\n\n\n\nHoliday Wine Showcase \n\n\n\n\n\n\n\n\n\n\n\n\nFour Exclusive Vendors: Sample curated selection of wines for the holidays. \n\n\n\nCasual Atmosphere: This is a relaxed\, not-seated event where you can visit each table at your own pace. \n\n\n\nDelicious Snacks: Complement your wine tasting. \n\n\n\nTake-Home Seasonal Wine Glass: Receive a beautifully designed seasonal wine glass to take home. \n\n\n\nTwo Time Options:  12:00-2:30 OR 3:30-6:00\, that’s 2 1/2 hours of tasting.
URL:https://cellardoorconcord.com/event/seasonal-sips-a-holiday-wine-showcase/
LOCATION:Cellar Door Wine Shop\, 2 Union Street South\, Concord\, NC\, 28025\, United States
CATEGORIES:Downtown Events
ATTACH;FMTTYPE=image/jpeg:https://cellardoorconcord.com/wp-content/uploads/2024/10/seasonalsipsimage.jpeg
END:VEVENT
BEGIN:VEVENT
DTSTART;TZID=America/New_York:20251108T170000
DTEND;TZID=America/New_York:20251108T210000
DTSTAMP:20260421T211809
CREATED:20250911T201409Z
LAST-MODIFIED:20250911T201411Z
UID:2543-1762621200-1762635600@cellardoorconcord.com
SUMMARY:Second Saturday at the Cellar
DESCRIPTION:Cellar Door Wine Shop is open until 9 pm on the 2nd Saturday of each month \n\n\n\n\n\n\nEnjoy a personal tasting of 3 wines\n\n\n\nPick your favorite for a full glass\n\n\n\nSeating inside or outside on the patio\n\n\n\nAvailable 5-8:30 pm\, $15 per person\n\n\n\nNo reservation needed\n\n\n\nCharcuterie boxes available (must pre-order)\n\n\n\n\nUnwind and enjoy an evening in Downtown Concord!  \n\n\n\nCheers to making Saturday nights unforgettable! 🍷✨
URL:https://cellardoorconcord.com/event/second-saturday-at-the-cellar-7/
LOCATION:NC
CATEGORIES:Downtown Events,Wine Tasting
ATTACH;FMTTYPE=image/jpeg:https://cellardoorconcord.com/wp-content/uploads/2025/02/secondsaturdaywinefood.jpg
END:VEVENT
BEGIN:VEVENT
DTSTART;TZID=America/New_York:20251105T170000
DTEND;TZID=America/New_York:20251105T190000
DTSTAMP:20260421T211809
CREATED:20251030T200045Z
LAST-MODIFIED:20251103T215047Z
UID:2630-1762362000-1762369200@cellardoorconcord.com
SUMMARY:Wine Tasting
DESCRIPTION:Wine Tasting with Audrey Ferguson from Main Vine Wines \n\n\n\n\n \n\n\n\n\nTasting Notes
URL:https://cellardoorconcord.com/event/wine-tasting-10/
LOCATION:Cellar Door Wine Shop\, 2 Union Street South\, Concord\, NC\, 28025\, United States
CATEGORIES:Wine Tasting
ATTACH;FMTTYPE=image/jpeg:https://cellardoorconcord.com/wp-content/uploads/2025/11/20251103_125714.jpg
END:VEVENT
BEGIN:VEVENT
DTSTART;TZID=America/New_York:20251029T170000
DTEND;TZID=America/New_York:20251029T190000
DTSTAMP:20260421T211809
CREATED:20251007T151441Z
LAST-MODIFIED:20251028T134815Z
UID:2590-1761757200-1761764400@cellardoorconcord.com
SUMMARY:Wine Tasting
DESCRIPTION:Wine Tasting with Brad Werner from Ocean South Imports  \n\n\n\n\nHalloween-themed Wines \n\n\n\n\nTasting Notes
URL:https://cellardoorconcord.com/event/wine-tasting-9/
LOCATION:Cellar Door Wine Shop\, 2 Union Street South\, Concord\, NC\, 28025\, United States
CATEGORIES:Wine Tasting
ATTACH;FMTTYPE=image/jpeg:https://cellardoorconcord.com/wp-content/uploads/2025/10/20251024_132119.jpg
END:VEVENT
BEGIN:VEVENT
DTSTART;TZID=America/New_York:20251028T180000
DTEND;TZID=America/New_York:20251028T193000
DTSTAMP:20260421T211809
CREATED:20251007T153113Z
LAST-MODIFIED:20251007T153113Z
UID:2596-1761674400-1761679800@cellardoorconcord.com
SUMMARY:Shedding Leaves Like Fall Trees: Fall Yoga to Let Go & Wine
DESCRIPTION:Renew – Restore – Relax – Release \n\n\n\nWine-down with candlelight yoga\, led by Leslie Bost of rē-LĒS\, les IS More. Need to let go of some stress\, heaviness\, sadness\, or burdens? Need to bring some peace to this busy season? Grab your mat and join us at 6 pm for a restorative yin practice at Cellar Door Wine Shop.
URL:https://cellardoorconcord.com/event/shedding-leaves-like-fall-trees-fall-yoga-to-let-go-wine/
LOCATION:Cellar Door Wine Shop\, 2 Union Street South\, Concord\, NC\, 28025\, United States
CATEGORIES:Wine Tasting
END:VEVENT
BEGIN:VEVENT
DTSTART;TZID=America/New_York:20251025T180000
DTEND;TZID=America/New_York:20251025T210000
DTSTAMP:20260421T211809
CREATED:20250827T195554Z
LAST-MODIFIED:20250930T214924Z
UID:2498-1761415200-1761426000@cellardoorconcord.com
SUMMARY:Taste of Tuscany ~ Wine-Pairing Dinner
DESCRIPTION:Savor a delicious four-course meal prepared by Chef Bob VanAtta\, perfectly paired with wines from Cellar Door Wine Shop. \n\n\n\n \n\n\n\n\n\n\n\n \n\n\n\nHosted by: Cellar Door Wine Shop and Cabarrus Cooking Company
URL:https://cellardoorconcord.com/event/taste-of-tuscany-wine-pairing-dinner/
LOCATION:Cellar Door Wine Shop\, 2 Union Street South\, Concord\, NC\, 28025\, United States
CATEGORIES:Downtown Events,Pairing
END:VEVENT
BEGIN:VEVENT
DTSTART;TZID=America/New_York:20251022T170000
DTEND;TZID=America/New_York:20251022T190000
DTSTAMP:20260421T211809
CREATED:20251007T151343Z
LAST-MODIFIED:20251018T170510Z
UID:2588-1761152400-1761159600@cellardoorconcord.com
SUMMARY:Wine Tasting
DESCRIPTION:Wine Tasting with Kaleigh Fanning from Elephants Corner Wines \n\n\n\n\n \n\n\n\n\nTasting Notes
URL:https://cellardoorconcord.com/event/wine-tasting-8/
LOCATION:Cellar Door Wine Shop\, 2 Union Street South\, Concord\, NC\, 28025\, United States
CATEGORIES:Wine Tasting
ATTACH;FMTTYPE=image/jpeg:https://cellardoorconcord.com/wp-content/uploads/2025/10/20251018_120030.jpg
END:VEVENT
END:VCALENDAR