BEGIN:VCALENDAR
VERSION:2.0
PRODID:-//Cellar Door Wine Shop - ECPv6.15.17.1//NONSGML v1.0//EN
CALSCALE:GREGORIAN
METHOD:PUBLISH
X-ORIGINAL-URL:https://cellardoorconcord.com
X-WR-CALDESC:Events for Cellar Door Wine Shop
REFRESH-INTERVAL;VALUE=DURATION:PT1H
X-Robots-Tag:noindex
X-PUBLISHED-TTL:PT1H
BEGIN:VTIMEZONE
TZID:America/New_York
BEGIN:DAYLIGHT
TZOFFSETFROM:-0500
TZOFFSETTO:-0400
TZNAME:EDT
DTSTART:20250309T070000
END:DAYLIGHT
BEGIN:STANDARD
TZOFFSETFROM:-0400
TZOFFSETTO:-0500
TZNAME:EST
DTSTART:20251102T060000
END:STANDARD
BEGIN:DAYLIGHT
TZOFFSETFROM:-0500
TZOFFSETTO:-0400
TZNAME:EDT
DTSTART:20260308T070000
END:DAYLIGHT
BEGIN:STANDARD
TZOFFSETFROM:-0400
TZOFFSETTO:-0500
TZNAME:EST
DTSTART:20261101T060000
END:STANDARD
BEGIN:DAYLIGHT
TZOFFSETFROM:-0500
TZOFFSETTO:-0400
TZNAME:EDT
DTSTART:20270314T070000
END:DAYLIGHT
BEGIN:STANDARD
TZOFFSETFROM:-0400
TZOFFSETTO:-0500
TZNAME:EST
DTSTART:20271107T060000
END:STANDARD
END:VTIMEZONE
BEGIN:VEVENT
DTSTART;TZID=America/New_York:20260304T170000
DTEND;TZID=America/New_York:20260304T190000
DTSTAMP:20260421T124538
CREATED:20260225T140036Z
LAST-MODIFIED:20260228T184246Z
UID:2952-1772643600-1772650800@cellardoorconcord.com
SUMMARY:The Wednesday Pour: Your Weekly Wine Discovery
DESCRIPTION:Wine Tasting  \n\n\n\n\nPresented by Alex Strauss of Skyland Distributing \n\n\n\n\nTasting Notes
URL:https://cellardoorconcord.com/event/the-wednesday-pour-your-weekly-wine-discovery-3/
LOCATION:Cellar Door Wine Shop\, 2 Union Street South\, Concord\, NC\, 28025\, United States
CATEGORIES:Wine Tasting
ATTACH;FMTTYPE=image/png:https://cellardoorconcord.com/wp-content/uploads/2026/02/20260228_122755.png
END:VEVENT
BEGIN:VEVENT
DTSTART;TZID=America/New_York:20260313T190000
DTEND;TZID=America/New_York:20260313T210000
DTSTAMP:20260421T124538
CREATED:20260225T134945Z
LAST-MODIFIED:20260225T134948Z
UID:2949-1773428400-1773435600@cellardoorconcord.com
SUMMARY:Special Tasting Event with Domaine Tropez
DESCRIPTION:Event Highlights\n\n\n\nJoin us as we share an evening with Maria Olivier of Domaine Tropez\, located in the heart of the Gulf of Saint-Tropez of Provence\, in the warm and beautiful south of France. \n\n\n\nDomaine Tropez is a family-run\, independent winery established in 1996\, with a passion for wine inherited from the current owner’s grandfather. The vineyard grows a variety of white and red grapes\, including Sauvignon Blanc\, Cinsault\, and Grenache – creating delicious\, award-winning wines\, including\, of course\, Provence-style rosé. The perfect wines to welcome Spring and get us thinking of warmer weather!
URL:https://cellardoorconcord.com/event/special-tasting-event-with-domaine-tropez/
LOCATION:NC
CATEGORIES:Downtown Events,Wine Tasting
ATTACH;FMTTYPE=image/png:https://cellardoorconcord.com/wp-content/uploads/2026/02/domaine-tropez-logo.png
END:VEVENT
BEGIN:VEVENT
DTSTART;TZID=America/New_York:20260314T170000
DTEND;TZID=America/New_York:20260314T210000
DTSTAMP:20260421T124538
CREATED:20260109T184500Z
LAST-MODIFIED:20260109T184503Z
UID:2827-1773507600-1773522000@cellardoorconcord.com
SUMMARY:Second Saturday at the Cellar: Unplug\, Uncork\, Unwind
DESCRIPTION:Cellar Door Wine Shop is open until 9 pm on the 2nd Saturday of each month \n\n\n\n\n\n\nEnjoy a personal tasting of 3 wines\n\n\n\nPick your favorite for a full glass\n\n\n\nSeating inside or outside on the patio\n\n\n\nAvailable 5-8:30 pm\, $15 per person\n\n\n\nNo reservation needed\n\n\n\nCharcuterie boxes available (must pre-order)\n\n\n\n\nUnplug\, Uncork\, Unwind and Enjoy an evening in Downtown Concord! \n\n\n\nCheers to making Saturday nights unforgettable! 🍷✨
URL:https://cellardoorconcord.com/event/second-saturday-at-the-cellar-unplug-uncork-unwind/
LOCATION:NC
CATEGORIES:Downtown Events,Wine Tasting
ATTACH;FMTTYPE=image/png:https://cellardoorconcord.com/wp-content/uploads/2025/10/charcuterie_sample.png
END:VEVENT
BEGIN:VEVENT
DTSTART;TZID=America/New_York:20260318T170000
DTEND;TZID=America/New_York:20260318T190000
DTSTAMP:20260421T124538
CREATED:20260225T140150Z
LAST-MODIFIED:20260317T124332Z
UID:2954-1773853200-1773860400@cellardoorconcord.com
SUMMARY:The Wednesday Pour: Your Weekly Wine Discovery
DESCRIPTION:Comparing Low-Altitude and High-Altitude Wines \n\n\n\n\nPresented by Megan Gadwah of 3 Keys Distributing \n\n\n\n\nTasting Notes
URL:https://cellardoorconcord.com/event/the-wednesday-pour-your-weekly-wine-discovery-7/
LOCATION:Cellar Door Wine Shop\, 2 Union Street South\, Concord\, NC\, 28025\, United States
CATEGORIES:Wine Tasting
ATTACH;FMTTYPE=image/jpeg:https://cellardoorconcord.com/wp-content/uploads/2026/02/20260314_130350.jpg
END:VEVENT
BEGIN:VEVENT
DTSTART;TZID=America/New_York:20260325T170000
DTEND;TZID=America/New_York:20260325T190000
DTSTAMP:20260421T124538
CREATED:20260225T140705Z
LAST-MODIFIED:20260321T160653Z
UID:2956-1774458000-1774465200@cellardoorconcord.com
SUMMARY:The Wednesday Pour: Your Weekly Wine Discovery
DESCRIPTION:Wine Tasting  \n\n\n\n\nPresented by Josh Cronin of Curated Wine Group \n\n\n\n\nTasting Notes
URL:https://cellardoorconcord.com/event/the-wednesday-pour-your-weekly-wine-discovery-8/
LOCATION:Cellar Door Wine Shop\, 2 Union Street South\, Concord\, NC\, 28025\, United States
CATEGORIES:Wine Tasting
ATTACH;FMTTYPE=image/jpeg:https://cellardoorconcord.com/wp-content/uploads/2026/03/20260321_115707.jpg
END:VEVENT
END:VCALENDAR